Workbook

Sheet メニュー画面
C4: 「教会実状報告書」作成についてのお願い
C5: ＜正確な報告書を編集し、皆様にお届けるするために、ご協力をお願いします。＞
C6: 2025年度の報告書作成に当たり、はじめに下記の情報を記入してください。 | J6: このシートは安全が確認されたマクロ（プログラム）を使用しています。
C7: 1）教会名
J8: セキュリティの警告が表示されたら、コンテンツの有効化をクリックしてください。
C9: 2）作成者
C11: 3）作成者への連絡先（どちらかを記入ください） | J11: 教団事務所から記載内容の問い合わせのために、記入者（担当者）の連絡先を記載してください。
C13: 電話番号
C15: メールアドレス | J15: PDFに変換しないで、Excelのファイル形式のまま送信してください。 送信後、訂正があるときは、ファイル名の作成日を訂正日に変更して、送信してください。
C17: 上記の項目を記入したら、まず、次のファイル名で保存してください。
C18: 教会名―２０２５年報告―作成日
C19: ここで、教会名は、教団名簿での名称としてください。 （例）教団教会―２０２５年度報告―20260120 | J19: 「印刷」以降のシートは教団事務所が使用します。手を加えないでください。（赤～青色のシート）
C20: 下記A、Ｂ、Ｃ、Ｄの作成において常に上書き保存をし、すべてのシートに記入が完了したら、最終の上書き保存し、教団事務所宛てのメールに添付して発信してください。
J21: メールで提出した場合は、印刷した報告書の提出（郵送）は必要ありません。
C22: office@domei.info
C24: 2025年度 「教会実状報告書」作成メニュー画面 | J24: 提出期限：2026年1月25日
C25: エクセル版、Microsoft Excel 97以降のバージョンに対応しています。 | J25: 問い合わせ先（教団事務所） 電話：０３－３４６５－２１９４ 電子メール：office@domei.info
B27: A | C27: 教勢報告 作成画面へ | D27: ☚ | E27: 教勢報告の作成には、 このボタンを押してください。
B29: B | C29: 財務報告 作成画面へ | D29: ☚ | E29: 財務報告の作成には、 このボタンを押してください。
B31: C | C31: 不動産報告 作成画面へ | D31: ☚ | E31: 不動産報告の作成には、 このボタンを押してください。
B33: D | C33: 教会借入金・各種積立金報告 作成画面へ | D33: ☚ | E33: 教会借入金・各種積立金報告の 作成には、このボタンを押してください。
C36: 連続印刷の方法 | D36: ☚ | E36: 両面印刷あるいは、Ａ3見開き印刷を行うときは、このボタンを押して手順を確認してください。

Sheet A(教勢)
D2: メニュー画面に戻る | F2: ☚ | G2: 他の報告書に移るには、 このボタンを押してください。
E5: 彩色されたセル（場所）へ入力してください。
D7: 2025年度実状報告書 | I7: （2025年1月1日～12月31日）
D9: 教会名 | E9: =メニュー画面!D7 -> 0 | J9: 教師名
D10: 法人格 | F10: （取得しているときは、宗を記入、未取得の時な空白とする）
J11: 他教職者 | M11: 名
J12: 信徒職員 | M12: 名
C13: Ａ．教勢報告
C15: Ⅰ．教会員
C16: 項 目 | E16: 男 | F16: 女 | G16: 計 | I16: 伝道所数 | L16: 0 | M16: 箇所
C17: 現住陪餐会員数 | E17: 0 | F17: 0 | G17: =SUM(E17:F17) -> 0 | I17: 家庭集会数 | L17: 0 | M17: 箇所
C18: その他の会員数 | E18: 0 | F18: 0 | G18: =SUM(E18:F18) -> 0
C19: 受 洗 者 数 | E19: =E20+E21 -> 0 | F19: =F20+F21 -> 0 | G19: =SUM(E19:F19) -> 0 | I19: Ⅲ. 教会学校(小数点以下四捨五入）
C20: 内 訳 | D20: ｸﾘｽﾁｬﾝ家庭から | E20: 0 | F20: 0 | G20: =SUM(E20:F20) -> 0 | I20: 項 目 | K20: 男 | L20: 女 | M20: 計
D21: それ以外から | E21: 0 | F21: 0 | G21: =SUM(E21:F21) -> 0 | I21: 生 徒 数 | J21: 幼児科 | K21: 0 | L21: 0 | M21: =SUM(K21:L21) -> 0 | P21: 集会出席数、教会学校等で、男女別の集計をしていないときは、
C22: 転 入 者 数 | E22: =E23+E24 -> 0 | F22: =F23+F24 -> 0 | G22: =SUM(E22:F22) -> 0 | J22: 小学科 | K22: 0 | L22: 0 | M22: =SUM(K22:L22) -> 0 | P22: 男の欄に、「合算」と入力し、
C23: 内 訳 | D23: 教団内から | E23: 0 | F23: 0 | G23: =SUM(E23:F23) -> 0 | J23: 中学科 | K23: 0 | L23: 0 | M23: =SUM(K23:L23) -> 0 | P23: 女の欄に、「合算の数字」を入力してください。
D24: 教団外から | E24: 0 | F24: 0 | G24: =SUM(E24:F24) -> 0 | J24: 高校科 | K24: 0 | L24: 0 | M24: =SUM(K24:L24) -> 0 | P24: 参考例
C25: 転 出 者 数 | E25: =E26+E27 -> 0 | F25: =F26+F27 -> 0 | G25: =SUM(E25:F25) -> 0 | J25: 合 計 | K25: =SUM(K21:K24) -> 0 | L25: =SUM(L21:L24) -> 0 | M25: =SUM(K25:L25) -> 0 | Q25: 項目 | S25: 男 | T25: 女 | U25: 計
C26: 内 訳 | D26: 教団内へ | E26: 0 | F26: 0 | G26: =SUM(E26:F26) -> 0 | I26: 教 師 数 | K26: 0 | L26: 0 | M26: =SUM(K26:L26) -> 0 | Q26: 礼拝（大人） | S26: 合算 | T26: 40 | U26: 40
D27: 教団外へ | E27: 0 | F27: 0 | G27: =SUM(E27:F27) -> 0 | I27: 教会学校数 | K27: 0 | M27: 校 | Q27: 礼拝（子ども） | S27: 合算 | T27: 20 | U27: 20
C28: 召 天 者 数 | E28: 0 | F28: 0 | G28: =SUM(E28:F28) -> 0 | I28: 献金総額 | K28: 0 | M28: 円
C29: 除名･別帳移動数 | E29: 0 | F29: 0 | G29: =SUM(E29:F29) -> 0
C31: Ⅱ．集会出席数(年間平均数・小数点以下四捨五入) | P31: 「Ⅱ．集会出席者数（年間平均数・小数点以下四捨五入）」の算出方法
C32: 項 目 | E32: 男 | F32: 女 | G32: 計 | I32: オンライン参加 | K32: ＊ | L32: 集会出席者合計にオンライン参加者を含む場合には 「含む」に〇印を 記入する | P32: 教会が出席者として公的に認めている数を記入ください。
I33: 含む | J33: 人数 | P33: （１）会場の出席者のみを公的な出席者とする場合（例年の算出方法と同じ） 会場で 出席した人数から平均数を算出してください。
C34: 礼 拝（大 人） | E34: 0 | F34: 0 | G34: =SUM(E34:F34) -> 0
C35: 礼 拝（子ども） | E35: 0 | F35: 0 | G35: =SUM(E35:F35) -> 0 | P35: （２）会場の出席者に加えてオンライン参加者を公的な出席者とし、その人数をカウ ントしている場合は、会場で出席した人数にオンライン参加人数を加算して算出 してください。
C36: 夕 拝 | E36: 0 | F36: 0 | G36: =SUM(E36:F36) -> 0 | K36: ＊ | L36: 参加人数をカウントしている場合は数を記入
C37: 祈 祷 会 | E37: 0 | F37: 0 | G37: =SUM(E37:F37) -> 0
P38: （３） 「オンライン参加」の記入について（任意記入項目）
C39: Ⅳ. 幼稚園・保育園 | I39: オンライン参加の記入は任意です | P39: ・会場で出席した人数にオンライン参加人数を加算した場合は「含む」にマルを してください。 ・加算したオンライン参加人数を記入してください。
C40: 項 目 | E40: 男 | F40: 女 | G40: 計
C41: 園 児 数 | E41: 0 | F41: 0 | G41: =SUM(E41:F41) -> 0 | P41: † 上記「オンラン参加」は記録のためであり、オンラインの是非などに関する諸教会 での判断について言及するもので はありません。
C42: 教 師 数 | E42: 0 | F42: 0 | G42: =SUM(E42:F42) -> 0
C44: Ⅴ.特殊伝道及び事業（件数とその内容を具体的に記入）
C45: 件 数 | E45: 0 | F45: 件
C46: その内容
C49: ＊礼拝出席数
C50: 大 人：中学生以上の人数
...

Sheet B（財務報告）
D2: メニュー画面に戻る | E2: ☚他の報告書に移るには、 このボタンを押してください。
D5: 彩色されたセル（場所）へ入力してください。
C8: Ｂ．教会財務報告 | E8: (2025年1月1日～12月31日）
D10: 教会名 | E10: =メニュー画面!D7 -> 0
C11: 収 支 計 算 書
D12: 収 入 の 部 | E12: 金 額 円 | F12: 備 考
C13: 1 | D13: 集 会 献 金 | E13: 0
C14: 2 | D14: 月 定 献 金 | E14: 0
C15: 3 | D15: 感 謝 献 金 | E15: 0
C16: 4 | D16: 国内宣教献金 | E16: 0
C17: 5 | D17: 国外宣教献金 | E17: 0
C18: 6 | D18: 21世紀ｷｬﾝﾌﾟ伝道献金 | E18: 0
C19: 7 | D19: 特 別 献 金 | E19: 0
C20: 8 | D20: 会 堂 献 金 | E20: 0
C21: 9 | D21: 教 団 補 助 | E21: 0
C22: 10 | D22: 資 産 収 入 | E22: 0
C23: 11 | D23: その他収入 | E23: 0
C24: 12 | D24: 積立金取崩収入 | E24: 0
C25: 13 | D25: 借入金収入 | E25: 0
C26: 14 | D26: 前年度繰越金 | E26: 0 | G26: ☚ | H26: 2024年度報告の繰越金と一致していることを、確認してください。
C27: 収 入 合 計 | E27: =SUM(E13:E26) -> 0
D29: 支 出 の 部 | E29: 金 額 円 | F29: 備 考
C30: 1 | D30: 教団負担金 | E30: 0
C31: 2 | D31: 明日の伝道者育成負担金 | E31: 0
C32: 3 | D32: 国内宣教献金 | E32: 0
C33: 4 | D33: 国外宣教献金 | E33: 0
C34: 5 | D34: 21世紀ｷｬﾝﾌﾟ伝道献金 | E34: 0
C35: 6 | D35: 教団内協力支出 | E35: 0
C36: 7 | D36: 教団外協力支出 | E36: 0
C37: 8 | D37: 人 件 費 | E37: 0
C38: 9 | D38: 福利厚生費 | E38: 0
C39: 10 | D39: 伝道教育費 | E39: 0
C40: 11 | D40: 管 理 費 | E40: 0
C41: 12 | D41: 資産購入支出 | E41: 0
... C45: 16 | D45: 次年度繰越収支差額 | E45: 0
C46: 支 出 合 計 | E46: =SUM(E30:E45) -> 0
D50: 「収入合計」-「支出合計」= | F50: =E27-E46 -> 0
D51: =IF(COUNT(E27:E46),IF(E27=E46,"収入・支出の合計は一致しています。","収入・支出の合計が不一致です。見直しをしてください。"),"") -> 収入・支出の合計は一致しています。

Sheet Ｃ（不動産報告）
C2: メニュー画面に戻る | D2: ☚他の報告に移るには、 このボタンを押してください。
C5: 必要に応じて、行を挿入してください。 なお、青色のセルには計算式が組み込まれていますので入力しないでください
C6: 彩色されたセル（場所）へ入力してください。
B9: C．２０２５年度 教会不動産報告
D11: 教会名 | E11: =メニュー画面!D7 -> 0 | J11: ☚ここは変更しない
B14: 土 地（登記簿で確認して記入して下さい。）
B15: 登 記 簿 記 載 所 在 地 番 | F15: 地目 | G15: 地積
B16: 1 | H16: ㎡ | J16: 行を追加（挿入）するときは、2から4の間で行い、番号は適宜修正してください。 また㎡は空欄のままで結構です。
B17: 2 | H17: ㎡
B18: 3 | H18: ㎡
B19: 4 | H19: ㎡
B20: 5 | H20: ㎡
B21: 地 積 合 計 | G21: =SUM(G16:G20) -> 0 | H21: ㎡ | J21: ☚ここには入力しない
B22: 取 得 価 額（評 価 額） | H22: 円
B23: 備考
B26: 建 物
B27: （登記部分）
B28: 所 在 地 番 | D28: 家屋番号 | E28: 種別 | F28: 構造 | G28: 床面積
H29: ㎡ | J29: 行を追加（挿入）するときは、土地と同じように、中間部分のマーキングされている行で行ってください。
H30: ㎡
H31: ㎡
H32: ㎡
H33: ㎡
H34: ㎡
B35: （未登記部分及び借家の場合）
H36: ㎡ | J36: この部分での行の挿入が必要な時は、入力した文字のすべてが表示されるように、行の幅を適宜下に広げてください。
H37: ㎡
H38: ㎡
B39: 床面積合計 | G39: =SUM(G29:G34)+SUM(G36:G38) -> 0 | H39: ㎡ | J39: ☚ここには入力しない
B40: 取 得 価 額（評 価 額） | H40: 円
B41: 備考
F44: (2025年12月31日 現在)

Sheet D(借入金・積立金
C2: メニュー画面に戻る | D2: ☚他の報告に移るには、 このボタンを押してください。
C5: 彩色されたセル（場所）へ入力してください。
C7: D．２０２５年度 教会借入金・各種積立金報告
D8: ２０２５年１２月３１日現在 単位：円
C9: 教会名 | D9: =メニュー画面!D7 -> 0
C10: １．教団外からの借入金
C12: 借入先（金融機関・宣教団等） | D12: 借 入 残 高 | F12: 返済完了予定年月
B13: ① | E13: 円 | G13: 年 | I13: 月
B14: ② | E14: 円 | G14: 年 | I14: 月
B15: ③ | E15: 円 | G15: 年 | I15: 月
B16: ④ | E16: 円 | G16: 年 | I16: 月
C17: ※教団外の金融機関及び宣教団その他法人・個人からの借入金についてご記入下さい。
C19: ２．教団内借入金
C21: 借 入 先 | D21: 借 入 残 高 | F21: 返済完了予定年月
C22: 教団から | E22: 円 | G22: 年 | I22: 月
C23: 宣教区・教団内教会から | E23: 円 | G23: 年 | I23: 月
C24: 教会内（教会債） | E24: 円 | G24: 年 | I24: 月
C26: ３．各種積立金の明細
C28: 積立金項目 | D28: 積立金残高 | F28: 備 考
C29: 退職金積立金 | E29: 円
C30: 退職金以外の積立金(※) | E30: 円
C31: ※会堂、墓地、備品購入、その他、教会の積立金全ての合計金額を記入して下さい。
C32: この用紙による調査内容は、理事会及び財務部が法人連結決算のための資料として用い、
C33: 例年の実情報告書には掲載しません。

Sheet 印刷
E2: メニュー画面に戻る | F2: ☚ | G2: このボタンを押すとメニュー画面に戻ります
D6: 通常の印刷
E7: 各シートの入力が完了したら、教会保存用にそれぞれのシートでメニュー画面から印刷を実行してください。
D8: 連続印刷
E9: 両面印刷、Ａ3用紙に見開き印刷をするときは、次のようにして連続印刷設定をしてください。その上で、個々の印刷機のプロパティーで、印刷の詳細な内容を設定してください。
E10: 「ファイル」⇒「印刷」⇒「設定」で、「作業中のファイルの印刷」を「ブック全体を印刷」に変更し、
E11: 次いで、印刷範囲を「3ページから6頁」に設定してください。
E12: このとき、接続している印刷機のプロパティーで、両面印刷あるいはＡ3見開き印刷名と指示をすることができます。

Sheet Ａ．教団教勢集計用
G2: このシートは、「実状報告」作成のために使用します。削除や加工をしないでください。
C3: Ａ．教勢報告
C5: 法人格 | D5: 教会名 | E5: 教師名 | F5: 現住陪餐 会員数 | I5: その他の 会員数 | L5: 受 洗 者 数 | R5: 転 入 者 数 | X5: 転 出 者 数 | AD5: 召天者数 | AG5: 除名・別帳 移動者数 | AJ5: 礼拝出席者数（年平均） | AR5: 伝道 所数 | AS5: 家庭 集会 | AT5: 特殊 伝道 | AU5: 教 会 学 校
L6: クリスチャン 家庭から | O6: それ以外から | R6: 教団内から | U6: 教団外から | X6: 教団内へ | AA6: 教団外へ | AJ6: 礼拝（大人） | AM6: 礼拝（子供） | AP6: 夕拝 | AQ6: 祈祷 会 | AU6: 教師数 | AX6: 生徒数 | BA6: 校 数 | BB6: 献金額
F7: 男 | G7: 女 | H7: 計 | I7: 男 | J7: 女 | K7: 計 | L7: 男 | M7: 女 | N7: 計 | O7: 男 | P7: 女 | Q7: 計 | R7: 男 | S7: 女 | T7: 計 | U7: 男 | V7: 女 | W7: 計 | X7: 男 | Y7: 女 | Z7: 計 | AA7: 男 | AB7: 女 | AC7: 計 | AD7: 男 | AE7: 女 | AF7: 計 | AG7: 男 | AH7: 女 | AI7: 計 | AJ7: 男 | AK7: 女 | AL7: 計 | AM7: 男 | AN7: 女 | AO7: 計 | AU7: 男 | AV7: 女 | AW7: 計 | AX7: 男 | AY7: 女 | AZ7: 計 | BB7: 円
C8: ='A(教勢)'!E10 -> 0 | D8: ='A(教勢)'!E9 -> 0 | E8: ='A(教勢)'!K9 -> 0 | F8: ='A(教勢)'!E17 -> 0 | G8: ='A(教勢)'!F17 -> 0 | H8: ='A(教勢)'!G17 -> 0 | I8: ='A(教勢)'!E18 -> 0 | J8: ='A(教勢)'!F18 -> 0 | K8: ='A(教勢)'!G18 -> 0 | L8: ='A(教勢)'!E20 -> 0 | M8: ='A(教勢)'!F20 -> 0 | N8: ='A(教勢)'!G20 -> 0 | O8: ='A(教勢)'!E21 -> 0 | P8: ='A(教勢)'!F21 -> 0 | Q8: ='A(教勢)'!G21 -> 0 | R8: ='A(教勢)'!E23 -> 0 | S8: ='A(教勢)'!F23 -> 0 | T8: ='A(教勢)'!G23 -> 0 | U8: ='A(教勢)'!E24 -> 0 | V8: ='A(教勢)'!F24 -> 0 | W8: ='A(教勢)'!G24 -> 0 | X8: ='A(教勢)'!E26 -> 0 | Y8: ='A(教勢)'!F26 -> 0 | Z8: ='A(教勢)'!G26 -> 0 | AA8: ='A(教勢)'!E27 -> 0 | AB8: ='A(教勢)'!F27 -> 0 | AC8: ='A(教勢)'!G27 -> 0 | AD8: ='A(教勢)'!E28 -> 0 | AE8: ='A(教勢)'!F28 -> 0 | AF8: ='A(教勢)'!G28 -> 0 | AG8: ='A(教勢)'!E29 -> 0 | AH8: ='A(教勢)'!F29 -> 0 | AI8: ='A(教勢)'!G29 -> 0 | AJ8: ='A(教勢)'!E34 -> 0 | AK8: ='A(教勢)'!F34 -> 0 | AL8: ='A(教勢)'!G34 -> 0 | AM8: ='A(教勢)'!E35 -> 0 | AN8: ='A(教勢)'!F35 -> 0 | AO8: ='A(教勢)'!G35 -> 0 | AP8: ='A(教勢)'!G36 -> 0 | AQ8: ='A(教勢)'!G37 -> 0 | AR8: ='A(教勢)'!L16 -> 0 | AS8: ='A(教勢)'!L17 -> 0 | AT8: ='A(教勢)'!E45 -> 0 | AU8: ='A(教勢)'!K26 -> 0 | AV8: ='A(教勢)'!L26 -> 0 | AW8: ='A(教勢)'!M26 -> 0 | AX8: ='A(教勢)'!K25 -> 0 | AY8: ='A(教勢)'!L25 -> 0 | AZ8: ='A(教勢)'!M25 -> 0 | BA8: ='A(教勢)'!K27 -> 0 | BB8: ='A(教勢)'!K28 -> 0

Sheet Ｂ．教団収入集計用
G2: このシートは、「実状報告」作成のために使用します。削除や加工をしないでください。
C3: Ｂ．財務報告 収入の部
C5: 法人格 | D5: 教会名 | E5: 集会献金 | F5: 月定献金 | G5: 感謝献金 | H5: 国内宣教 | I5: 国外宣教 | J5: 21世紀キャンプ伝道献金 | K5: 特別献金 | L5: 会堂献金 | M5: 教団補助 | N5: 資産収入 | O5: その他収入 | P5: 積立金取り崩し | Q5: 借入金収入 | R5: 前年度繰越金 | S5: 合計 | T5: 基本財産土地 | U5: 基本財産建物
C6: ='A(教勢)'!E10 -> 0 | D6: ='B（財務報告）'!E10 -> 0 | E6: ='B（財務報告）'!E13 -> 0 | F6: ='B（財務報告）'!E14 -> 0 | G6: ='B（財務報告）'!E15 -> 0 | H6: ='B（財務報告）'!E16 -> 0 | I6: ='B（財務報告）'!E17 -> 0 | J6: ='B（財務報告）'!E18 -> 0 | K6: ='B（財務報告）'!E19 -> 0 | L6: ='B（財務報告）'!E20 -> 0 | M6: ='B（財務報告）'!E21 -> 0 | N6: ='B（財務報告）'!E22 -> 0 | O6: ='B（財務報告）'!E23 -> 0 | P6: ='B（財務報告）'!E24 -> 0 | Q6: ='B（財務報告）'!E25 -> 0 | R6: ='B（財務報告）'!E26 -> 0 | S6: ='B（財務報告）'!E27 -> 0 | T6: ='Ｃ（不動産報告）'!G22 -> 0 | U6: ='Ｃ（不動産報告）'!G40 -> 0

Sheet B．支出完全版
G2: このシートは、「実状報告」作成のために使用します。削除や加工をしないでください。
C3: Ｂ．財務報告（支出の部）
C5: 法人格 | D5: 教会名 | E5: 教団負担金 | F5: 明日の伝道者育成 | G5: 国内宣教 | H5: 国外宣教 | I5: 21世紀キャンプ伝道献金 | J5: 教団内協力 | K5: 教団外協力 | L5: 人件費 | M5: 福利厚生費 | N5: 伝道教育費 | O5: 管理費 | P5: 資産購入 | Q5: その他 | R5: 積立金繰入 | S5: 借入金返済 | T5: 次年度繰越金 | U5: 支出合計
C7: ='A(教勢)'!E10 -> 0 | D7: ='A(教勢)'!D61 -> 0 | E7: ='B（財務報告）'!E30 -> 0 | F7: ='B（財務報告）'!E31 -> 0 | G7: ='B（財務報告）'!E32 -> 0 | H7: ='B（財務報告）'!E33 -> 0 | I7: ='B（財務報告）'!E34 -> 0 | J7: ='B（財務報告）'!E35 -> 0 | K7: ='B（財務報告）'!E36 -> 0 | L7: ='B（財務報告）'!E37 -> 0 | M7: ='B（財務報告）'!E38 -> 0 | N7: ='B（財務報告）'!E39 -> 0 | O7: ='B（財務報告）'!E40 -> 0 | P7: ='B（財務報告）'!E41 -> 0 | Q7: ='B（財務報告）'!E42 -> 0 | R7: ='B（財務報告）'!E43 -> 0 | S7: ='B（財務報告）'!E44 -> 0 | T7: ='B（財務報告）'!E45 -> 0 | U7: ='B（財務報告）'!E46 -> 0

Sheet D．教団借入金等連結用
F2: このシートは、「実状報告」作成のために使用します。削除や加工をしないでください。
C3: Ｄ．教団借入金等連結用
C5: 教会名 | D5: 教団外借入① | F5: 教団外借入② | H5: 教団外借入③ | J5: 教団外借入④ | L5: 教団から | M5: 宣教区・ 他教会 | N5: 教会内 | P5: 退職金 積立金 | Q5: 他積立金
D6: 借入先 | E6: 借入残高 | F6: 借入先 | G6: 借入残高 | H6: 借入先 | I6: 借入残高 | J6: 借入先 | K6: 借入残高 | L6: 借入残高 | M6: 借入残高 | N6: 借入残高
C7: ='A(教勢)'!D61 -> 0 | D7: ='D(借入金・積立金'!C13 -> 0 | E7: ='D(借入金・積立金'!D13 -> 0 | F7: ='D(借入金・積立金'!C14 -> 0 | G7: ='D(借入金・積立金'!D14 -> 0 | H7: ='D(借入金・積立金'!C15 -> 0 | I7: ='D(借入金・積立金'!D15 -> 0 | J7: ='D(借入金・積立金'!C16 -> 0 | K7: ='D(借入金・積立金'!D16 -> 0 | L7: ='D(借入金・積立金'!D22 -> 0 | M7: ='D(借入金・積立金'!D23 -> 0 | N7: ='D(借入金・積立金'!D24 -> 0 | P7: ='D(借入金・積立金'!D29 -> 0 | Q7: ='D(借入金・積立金'!D30 -> 0

Sheet E.集会出席内訳
F2: このシートは、「実状報告」作成のために使用します。削除や加工をしないでください。
C3: Ａ-2 オンライン集会出席者数
C5: 法人格 | D5: 教会名 | E5: オンライン出席含む | I5: オンライン出席者数
E6: 礼拝 | F6: 礼拝 | G6: 夕拝 | H6: 祈祷 会 | I6: 礼拝 | J6: 礼拝 | K6: 夕拝 | L6: 祈祷 会
E7: 大人 | F7: 子供 | I7: 大人 | J7: 子供
C8: ='A(教勢)'!E10 -> 0 | D8: =メニュー画面!D7 -> 0 | I8: ='A(教勢)'!J34 -> 0 | J8: ='A(教勢)'!J35 -> 0 | K8: ='A(教勢)'!J36 -> 0 | L8: ='A(教勢)'!J37 -> 0

Sheet Sheet3
C16: 23
